Workbook
Name cassa: [1]riepilogo!#REF!
Name cassa: [1]riepilogo!#REF!
Name cassa: [1]riepilogo!#REF!
Name cassa: [2]riepilogo!#REF!
Name cassa: [1]riepilogo!#REF!
Name cassa: [1]riepilogo!#REF!

Sheet Bilancio riclassificato 2 liv.
A1: AUTORITA' DI REGOLAZIONE PER ENERGIA RETI E AMBIENTE | E1: PREVISIONI DEFINITIVE | F1: GESTIONE DI COMPETENZA | J1: GESTIONE DEI RESIDUI ATTIVI | O1: RIEPILOGO
A2: RENDICONTO DELLA GESTIONE PER L'ESERCIZIO 1 GENNAIO 2023 - 31 DICEMBRE 2023 | F2: SOMME ACCERTATE | J2: Residui all'inizio dell'esercizio | K2: Riscossi | L2: Rimasti da riscuotere | M2: Variazioni / residui insussistenti | N2: Residui finali dell'esercizio precednte
A3: Macro | B3: Livelli | C3: Voce | D3: Codice Capitolo | F3: Riscosse | G3: Rimaste da riscuotere | H3: Totale | I3: Differenze | O3: Totale incassi al 31/12/2023 | P3: Consistenza dei residui attivi al 31/12/2023
C4: AVANZO DI AMMINISTRAZIONE DISPONIBILE | E4: 8000000 | F4: 0 | G4: 0 | H4: 0 | I4: 5117387.1 | J4: ='bilancio riclassificato 5 liv.'!K4 -> 0 | K4: ='bilancio riclassificato 5 liv.'!L4 -> 0 | L4: ='bilancio riclassificato 5 liv.'!M4 -> 0 | M4: ='bilancio riclassificato 5 liv.'!N4 -> 0 | N4: =+L4+M4 -> 0 | O4: ='bilancio riclassificato 5 liv.'!P4 -> 0 | P4: ='bilancio riclassificato 5 liv.'!Q4 -> 0
A6: E | B6: I | C6: Entrate correnti di natura tributaria, contributiva e perequativa | D6: E.1.00.00.00.000 | E6: 82258087 | F6: 89285950 | G6: 0 | H6: 89285950 | I6: -7027863.4 | J6: ='bilancio riclassificato 3 liv.'!J6 -> 1788969.6 | K6: ='bilancio riclassificato 3 liv.'!K6 -> 1788969.6 | L6: ='bilancio riclassificato 3 liv.'!L6 -> 0 | M6: ='bilancio riclassificato 3 liv.'!M6 -> 0 | N6: ='bilancio riclassificato 3 liv.'!N6 -> 0 | O6: ='bilancio riclassificato 3 liv.'!O6 -> 91074920 | P6: ='bilancio riclassificato 3 liv.'!P6 -> 0
E7: 82258087 | F7: 89285950 | G7: 0 | H7: 89285950 | I7: -7027863.4 | J7: ='bilancio riclassificato 3 liv.'!J7 -> 1788969.6 | K7: ='bilancio riclassificato 3 liv.'!K7 -> 1788969.6 | L7: ='bilancio riclassificato 3 liv.'!L7 -> 0 | M7: ='bilancio riclassificato 3 liv.'!M7 -> 0 | N7: ='bilancio riclassificato 3 liv.'!N7 -> 0 | O7: ='bilancio riclassificato 3 liv.'!O7 -> 91074920 | P7: ='bilancio riclassificato 3 liv.'!P7 -> 0
A8: E | B8: I | C8: Trasferimenti correnti | D8: E.2.00.00.00.000 | E8: 0 | F8: 0 | G8: 0 | H8: 0 | I8: 0 | J8: ='bilancio riclassificato 5 liv.'!K24 -> 0 | K8: ='bilancio riclassificato 5 liv.'!L24 -> 0 | L8: ='bilancio riclassificato 5 liv.'!M24 -> 0 | M8: ='bilancio riclassificato 5 liv.'!N24 -> 0 | N8: =+L8+M8 -> 0 | O8: ='bilancio riclassificato 5 liv.'!P24 -> 0 | P8: ='bilancio riclassificato 5 liv.'!Q24 -> 0
A9: E | B9: II | C9: Trasferimenti correnti | D9: E.2.01.00.00.000 | E9: 0 | F9: 0 | G9: 0 | H9: 0 | I9: 0 | J9: ='bilancio riclassificato 5 liv.'!K25 -> 0 | K9: ='bilancio riclassificato 5 liv.'!L25 -> 0 | L9: ='bilancio riclassificato 5 liv.'!M25 -> 0 | M9: ='bilancio riclassificato 5 liv.'!N25 -> 0 | N9: =+L9+M9 -> 0 | O9: ='bilancio riclassificato 5 liv.'!P25 -> 0 | P9: ='bilancio riclassificato 5 liv.'!Q25 -> 0
A10: E | B10: I | C10: Entrate extratributarie | D10: E.3.00.00.00.000 | E10: 55066000 | F10: 55127477 | G10: 1463.5 | H10: 55128941 | I10: -62940.65 | J10: ='bilancio riclassificato 5 liv.'!K37 -> 354792.26 | K10: ='bilancio riclassificato 5 liv.'!L37 -> 934.4 | L10: ='bilancio riclassificato 5 liv.'!M37 -> 353857.86 | M10: ='bilancio riclassificato 5 liv.'!N37 -> 0 | N10: =+L10+M10 -> 353857.86 | O10: ='bilancio riclassificato 5 liv.'!P37 -> 55128412 | P10: ='bilancio riclassificato 5 liv.'!Q37 -> 355321.36
A11: E | B11: II | C11: Interessi attivi | D11: E.3.03.00.00.000 | E11: 6000 | F11: 7009.59 | G11: 1463.5 | H11: 8473.09 | I11: -2473.09 | J11: ='bilancio riclassificato 5 liv.'!K47 -> 934.4 | K11: ='bilancio riclassificato 5 liv.'!L47 -> 934.4 | L11: ='bilancio riclassificato 5 liv.'!M47 -> 0 | M11: ='bilancio riclassificato 5 liv.'!N47 -> 0 | N11: =+L11+M11 -> 0 | O11: ='bilancio riclassificato 5 liv.'!P47 -> 7943.99 | P11: ='bilancio riclassificato 5 liv.'!Q47 -> 1463.5
A12: E | B12: II | C12: Rimborsi e altre entrate correnti | D12: E.3.05.00.00.000 | E12: 55060000 | F12: 55120468 | G12: 0 | H12: 55120468 | I12: -60467.56 | J12: ='bilancio riclassificato 5 liv.'!K60 -> 353857.86 | K12: ='bilancio riclassificato 5 liv.'!L60 -> 0 | L12: ='bilancio riclassificato 5 liv.'!M60 -> 353857.86 | M12: ='bilancio riclassificato 5 liv.'!N60 -> 0 | N12: =+L12+M12 -> 353857.86 | O12: ='bilancio riclassificato 5 liv.'!P60 -> 55120468 | P12: ='bilancio riclassificato 5 liv.'!Q60 -> 353857.86
A13: E | B13: I | C13: Entrate per conto terzi e partite di giro | D13: E.9.00.00.00.000 | E13: 18930000 | F13: 18521011 | G13: 35133.63 | H13: 18556145 | I13: 373854.92 | J13: ='bilancio riclassificato 5 liv.'!K196 -> 22177.29 | K13: ='bilancio riclassificato 5 liv.'!L196 -> 1149.81 | L13: ='bilancio riclassificato 5 liv.'!M196 -> 21027.48 | M13: ='bilancio riclassificato 5 liv.'!N196 -> -21027.48 | N13: =+L13+M13 -> 0 | O13: ='bilancio riclassificato 5 liv.'!P196 -> 18522161 | P13: ='bilancio riclassificato 5 liv.'!Q196 -> 35133.63
A14: E | B14: II | C14: Entrate per partite di giro | D14: E.9.01.00.00.000 | E14: 18930000 | F14: 18521011 | G14: 35133.63 | H14: 18556145 | I14: 373854.92 | J14: ='bilancio riclassificato 5 liv.'!K197 -> 22177.29 | K14: ='bilancio riclassificato 5 liv.'!L197 -> 1149.81 | L14: ='bilancio riclassificato 5 liv.'!M197 -> 21027.48 | M14: ='bilancio riclassificato 5 liv.'!N197 -> -21027.48 | N14: =+L14+M14 -> 0 | O14: ='bilancio riclassificato 5 liv.'!P197 -> 18522161 | P14: ='bilancio riclassificato 5 liv.'!Q197 -> 35133.63
C15: TOTALE ENTRATE | E15: 1.6425409e+08 | F15: 1.6293444e+08 | G15: 36597.13 | H15: 1.6297104e+08 | I15: -1599562 | J15: =+J13+J10+J8+J4+J6 -> 2165939.1 | K15: =+K13+K10+K8+K4+K6 -> 1791053.8 | L15: =+L13+L10+L8+L4+L6 -> 374885.34 | M15: =+M13+M10+M8+M4+M6 -> -21027.48 | N15: =+N13+N10+N8+N4+N6 -> 353857.86 | O15: =+O13+O10+O8+O4+O6 -> 1.6472549e+08 | P15: =+P13+P10+P8+P4+P6 -> 390454.99
E16: 0 | F16: 0 | G16: 0 | H16: 0 | I16: 0 | J16: =+J15-[1]riepilogo!I26 -> 0 | K16: =+K15-[1]riepilogo!J26 -> 0 | L16: =+L15-[1]riepilogo!K26 -> 0 | M16: =+M15-[1]riepilogo!M26 -> 0 | O16: =+O15-[1]riepilogo!N26 -> 0 | P16: =+P15-[1]riepilogo!O26 -> 0
E17: #REF! | F17: #REF! | G17: #REF! | H17: #REF! | I17: #REF! | J17: =#REF! -> #REF! | K17: =#REF! -> #REF! | L17: =#REF! -> #REF! | M17: =#REF! -> #REF! | O17: =#REF! -> #REF! | P17: =#REF! -> #REF!
E18: #REF! | F18: #REF! | G18: #REF! | H18: #REF! | I18: #REF! | J18: =+J15-J17 -> #REF! | K18: =+K15-K17 -> #REF! | L18: =+L15-L17 -> #REF! | M18: =+M15-M17 -> #REF! | O18: =+O15-O17 -> #REF! | P18: =+P15-P17 -> #REF!
A20: AUTORITA' DI REGOLAZIONE PER ENERGIA RETI E AMBIENTE | E20: PREVISIONI DEFINITIVE | F20: GESTIONE DI COMPETENZA | J20: GESTIONE DEI RESIDUI PASSIVI | O20: RIEPILOGO
A21: RENDICONTO DELLA GESTIONE PER L'ESERCIZIO 1 GENNAIO 2023 - 31 DICEMBRE 2023 | F21: SOMME IMPEGNATE | J21: Residui all'inizio dell'esercizio | K21: Pagate | L21: Rimasti da pagare | M21: Variazioni / residui insussistenti | N21: Residui finali dell'esercizio precednte
A22: Macro | B22: Livelli | C22: Voce | D22: Codice Capitolo | F22: Pagate | G22: Rimaste da pagare | H22: Totale | I22: Differenze | O22: Totale pagamenti al 31/12/2023 | P22: Consistenza dei residui passivi al 31/12/2023
A23: U | B23: I | C23: Spese correnti | D23: U.1.00.00.00.000 | E23: 1.3877409e+08 | F23: 64055757 | G23: 60326495 | H23: 1.2438225e+08 | I23: 14391834 | J23: =SUM(J24:J34) -> 6920353.7 | K23: =SUM(K24:K34) -> 4905953.2 | L23: =SUM(L24:L34) -> 2014400.4 | M23: =SUM(M24:M34) -> -1161339.4 | N23: =+L23+M23 -> 853060.99 | O23: =SUM(O24:O34) -> 68961710 | P23: =SUM(P24:P34) -> 61179556
A24: U | B24: II | C24: Redditi da lavoro dipendente | D24: U.1.01.00.00.000 | E24: 54586000 | F24: 43147554 | G24: 892156.98 | H24: 44039711 | I24: 10546289 | J24: ='bilancio riclassificato 5 liv.'!K247 -> 765224.49 | K24: ='bilancio riclassificato 5 liv.'!L247 -> 765224.49 | L24: ='bilancio riclassificato 5 liv.'!M247 -> 0 | M24: ='bilancio riclassificato 5 liv.'!N247 -> 0 | N24: =+L24+M24 -> 0 | O24: ='bilancio riclassificato 5 liv.'!P247 -> 43912779 | P24: ='bilancio riclassificato 5 liv.'!Q247 -> 892156.98
A25: U | B25: II | C25: Imposte e tasse a carico dell'ente | D25: U.1.02.00.00.000 | E25: 3695000 | F25: 2375280.1 | G25: 430342.53 | H25: 2805622.6 | I25: 889377.39 | J25: ='bilancio riclassificato 5 liv.'!K274 -> 408557.98 | K25: ='bilancio riclassificato 5 liv.'!L274 -> 408557.98 | L25: ='bilancio riclassificato 5 liv.'!M274 -> 0 | M25: ='bilancio riclassificato 5 liv.'!N274 -> 0 | N25: =+L25+M25 -> 0 | O25: ='bilancio riclassificato 5 liv.'!P274 -> 2783838.1 | P25: ='bilancio riclassificato 5 liv.'!Q274 -> 430342.53
A26: U | B26: II | C26: Acquisto di beni e servizi | D26: U.1.03.00.00.000 | E26: 16197000 | F26: 10021365 | G26: 3824025 | H26: 13845390 | I26: 2351610 | J26: ='bilancio riclassificato 5 liv.'!K284 -> 4851020.3 | K26: ='bilancio riclassificato 5 liv.'!L284 -> 2836619.8 | L26: ='bilancio riclassificato 5 liv.'!M284 -> 2014400.4 | M26: ='bilancio riclassificato 5 liv.'!N284 -> -1161339.4 | N26: =+L26+M26 -> 853060.99 | O26: ='bilancio riclassificato 5 liv.'!P284 -> 12857985 | P26: ='bilancio riclassificato 5 liv.'!Q284 -> 4677086
A27: U | B27: II | C27: Trasferimenti correnti | D27: U.1.04.00.00.000 | E27: 8080826.9 | F27: 8075892.2 | G27: 0 | H27: 8075892.2 | I27: 4934.66 | J27: ='bilancio riclassificato 5 liv.'!K388 -> 0 | K27: ='bilancio riclassificato 5 liv.'!L388 -> 0 | L27: ='bilancio riclassificato 5 liv.'!M388 -> 0 | M27: ='bilancio riclassificato 5 liv.'!N388 -> 0 | N27: =+L27+M27 -> 0 | O27: ='bilancio riclassificato 5 liv.'!P388 -> 8075892.2 | P27: ='bilancio riclassificato 5 liv.'!Q388 -> 0
A28: U | B28: III | C28: Trasferimenti correnti a Famiglie | D28: U.1.04.02.00.000 | N28: =+L28+M28 -> 0
A29: U | B29: III | C29: Trasferimenti correnti a Imprese | D29: U.1.04.03.00.000 | N29: =+L29+M29 -> 0
A30: U | B30: III | C30: Trasferimenti correnti a Istituzioni Sociali Private | D30: U.1.04.04.00.000 | N30: =+L30+M30 -> 0
A31: U | B31: III | C31: Trasferimenti correnti versati all'Unione Europea e al Resto del Mondo | D31: U.1.04.05.00.000 | N31: =+L31+M31 -> 0
A32: U | B32: II | C32: Trasferimenti di tributi | D32: U.1.05.00.00.000 | E32: 260 | F32: 241.25 | G32: 0 | H32: 241.25 | I32: 18.75 | J32: ='bilancio riclassificato 5 liv.'!K400 -> 70.73 | K32: ='bilancio riclassificato 5 liv.'!L400 -> 70.73 | L32: ='bilancio riclassificato 5 liv.'!M400 -> 0 | M32: ='bilancio riclassificato 5 liv.'!N400 -> 0 | N32: =+L32+M32 -> 0 | O32: ='bilancio riclassificato 5 liv.'!P400 -> 311.98 | P32: ='bilancio riclassificato 5 liv.'!Q400 -> 0
A33: U | B33: II | C33: Rimborsi e poste correttive delle entrate | D33: U.1.09.00.00.000 | E33: 55580000 | F33: 379693.64 | G33: 55179971 | H33: 55559664 | I33: 20335.6 | J33: ='bilancio riclassificato 5 liv.'!K404 -> 895480.2 | K33: ='bilancio riclassificato 5 liv.'!L404 -> 895480.2 | L33: ='bilancio riclassificato 5 liv.'!M404 -> 0 | M33: ='bilancio riclassificato 5 liv.'!N404 -> 0 | N33: =+L33+M33 -> 0 | O33: ='bilancio riclassificato 5 liv.'!P404 -> 1275173.8 | P33: ='bilancio riclassificato 5 liv.'!Q404 -> 55179971
A34: U | B34: II | C34: Altre spese correnti | D34: U.1.10.00.00.000 | E34: 635000 | F34: 55730.85 | G34: 0 | H34: 55730.85 | I34: 579269.15 | J34: ='bilancio riclassificato 5 liv.'!K413 -> 0 | K34: ='bilancio riclassificato 5 liv.'!L413 -> 0 | L34: ='bilancio riclassificato 5 liv.'!M413 -> 0 | M34: ='bilancio riclassificato 5 liv.'!N413 -> 0 | N34: =+L34+M34 -> 0 | O34: ='bilancio riclassificato 5 liv.'!P413 -> 55730.85 | P34: ='bilancio riclassificato 5 liv.'!Q413 -> 0
A35: U | B35: I | C35: Spese in conto capitale | D35: U.2.00.00.00.000 | E35: 6550000 | F35: 562328.18 | G35: 199874.74 | H35: 762202.92 | I35: 5787797.1 | J35: =J36 -> 30559.89 | K35: =K36 -> 23291.19 | L35: =L36 -> 7268.7 | M35: =M36 -> -7268.7 | N35: =+L35+M35 -> 0 | O35: =O36 -> 585619.37 | P35: =P36 -> 199874.74
A36: U | B36: II | C36: Investimenti fissi lordi e acquisto di terreni | D36: U.2.02.00.00.000 | E36: 6550000 | F36: 562328.18 | G36: 199874.74 | H36: 762202.92 | I36: 5787797.1 | J36: ='bilancio riclassificato 5 liv.'!K443 -> 30559.89 | K36: ='bilancio riclassificato 5 liv.'!L443 -> 23291.19 | L36: ='bilancio riclassificato 5 liv.'!M443 -> 7268.7 | M36: ='bilancio riclassificato 5 liv.'!N443 -> -7268.7 | N36: =+L36+M36 -> 0 | O36: ='bilancio riclassificato 5 liv.'!P443 -> 585619.37 | P36: ='bilancio riclassificato 5 liv.'!Q443 -> 199874.74
A37: U | B37: I | C37: Uscite per conto terzi e partite di giro | D37: U.7.00.00.00.000 | E37: 18930000 | F37: 15893982 | G37: 2662162.8 | H37: 18556145 | I37: 373854.92 | J37: =J38 -> 2205593.6 | K37: =K38 -> 2164134.5 | L37: =L38 -> 41459.11 | M37: =M38 -> -41459.11 | N37: =+L37+M37 -> 0 | O37: =O38 -> 18058117 | P37: =P38 -> 2662162.8
A38: U | B38: II | C38: Uscite per partite di giro | D38: U.7.01.00.00.000 | E38: 18930000 | F38: 15893982 | G38: 2662162.8 | H38: 18556145 | I38: 373854.92 | J38: ='bilancio riclassificato 5 liv.'!K583 -> 2205593.6 | K38: ='bilancio riclassificato 5 liv.'!L583 -> 2164134.5 | L38: ='bilancio riclassificato 5 liv.'!M583 -> 41459.11 | M38: ='bilancio riclassificato 5 liv.'!N583 -> -41459.11 | N38: =+L38+M38 -> 0 | O38: ='bilancio riclassificato 5 liv.'!P583 -> 18058117 | P38: ='bilancio riclassificato 5 liv.'!Q583 -> 2662162.8
C39: TOTALE USCITE | E39: 1.6425409e+08 | F39: 80512068 | G39: 63188533 | H39: 1.437006e+08 | I39: 20553486 | J39: =J37+J35+J23 -> 9156507.1 | K39: =K37+K35+K23 -> 7093378.9 | L39: =L37+L35+L23 -> 2063128.2 | M39: =M37+M35+M23 -> -1210067.2 | N39: =N37+N35+N23 -> 853060.99 | O39: =+K39+F39 -> 87605446 | P39: =+G39+L39+M39 -> 64041594

Sheet bilancio riclassificato 3 liv.
A1: AUTORITA' DI REGOLAZIONE PER ENERGIA RETI E AMBIENTE | E1: PREVISIONI DEFINITIVE | F1: GESTIONE DI COMPETENZA | J1: GESTIONE DEI RESIDUI ATTIVI | O1: RIEPILOGO
A2: RENDICONTO DELLA GESTIONE PER L'ESERCIZIO 1 GENNAIO 2023 - 31 DICEMBRE 2023 | F2: SOMME ACCERTATE | J2: Residui all'inizio dell'esercizio | K2: Riscossi | L2: Rimasti da riscuotere | M2: Variazioni / residui insussistenti | N2: Residui finali dell'esercizio precednte
A3: Macro | B3: Livelli | C3: Voce | D3: Codice finale | F3: Riscosse | G3: Rimaste da riscuotere | H3: Totale | I3: Differenze | O3: Totale incassi al 31/12/2023 | P3: Consistenza dei residui attivi al 31/12/2023
C4: AVANZO DI AMMINISTRAZIONE DISPONIBILE | E4: 8000000 | F4: 0 | G4: 0 | H4: 0 | I4: 5117387.1 | J4: 0 | K4: 0 | L4: 0 | M4: 0 | N4: 0 | O4: 0 | P4: 0
A6: E | B6: I | C6: Entrate correnti di natura tributaria, contributiva e perequativa | D6: E.1.00.00.00.000 | E6: 82258087 | F6: 89285950 | G6: 0 | H6: 89285950 | I6: -7027863.4 | J6: 1788969.6 | K6: 1788969.6 | L6: 0 | M6: 0 | N6: 0 | O6: 91074920 | P6: 0
A7: E | B7: II | C7: Tributi | D7: E.1.01.00.00.000 | E7: 82258087 | F7: 89285950 | G7: 0 | H7: 89285950 | I7: -7027863.4 | J7: 1788969.6 | K7: 1788969.6 | L7: 0 | M7: 0 | N7: 0 | O7: 91074920 | P7: 0
A8: E | B8: III | C8: Imposte, tasse e proventi assimilati | D8: E.1.01.01.00.000 | E8: 82258087 | F8: 89285950 | G8: 0 | H8: 89285950 | I8: -7027863.4 | J8: 1788969.6 | K8: 1788969.6 | L8: 0 | M8: 0 | N8: 0 | O8: 91074920 | P8: 0
A9: E | B9: I | C9: Trasferimenti correnti | D9: E.2.00.00.00.000 | E9: 0 | F9: 0 | G9: 0 | H9: 0 | I9: 0 | J9: 0 | K9: 0 | L9: 0 | M9: 0 | N9: 0 | O9: 0 | P9: 0
A10: E | B10: II | C10: Trasferimenti correnti | D10: E.2.01.00.00.000 | E10: 0 | F10: 0 | G10: 0 | H10: 0 | I10: 0 | J10: 0 | K10: 0 | L10: 0 | M10: 0 | N10: 0 | O10: 0 | P10: 0
A11: E | B11: III | C11: Trasferimenti correnti da Amministrazioni pubbliche | D11: E.2.01.01.00.000 | E11: 0 | F11: 0 | G11: 0 | H11: 0 | I11: 0 | J11: 0 | K11: 0 | L11: 0 | M11: 0 | N11: 0 | O11: 0 | P11: 0
A12: E | B12: IV | C12: Trasferimenti correnti da Amministrazioni Centrali | D12: E.2.01.01.01.000 | E12: 0 | F12: 0 | G12: 0 | H12: 0 | I12: 0 | J12: 0 | K12: 0 | L12: 0 | M12: 0 | N12: 0 | O12: 0 | P12: 0
A13: E | B13: I | C13: Entrate extratributarie | D13: E.3.00.00.00.000 | E13: 55066000 | F13: 55127477 | G13: 1463.5 | H13: 55128941 | I13: -62940.65 | J13: 354792.26 | K13: 934.4 | L13: 353857.86 | M13: 0 | N13: 353857.86 | O13: 55128412 | P13: 355321.36
A14: E | B14: II | C14: Interessi attivi | D14: E.3.03.00.00.000 | E14: 6000 | F14: 7009.59 | G14: 1463.5 | H14: 8473.09 | I14: -2473.09 | J14: 934.4 | K14: 934.4 | L14: 0 | M14: 0 | N14: 0 | O14: 7943.99 | P14: 1463.5
A15: E | B15: III | C15: Altri interessi attivi | D15: E.3.03.03.00.000 | E15: 6000 | F15: 7009.59 | G15: 1463.5 | H15: 8473.09 | I15: -2473.09 | J15: 934.4 | K15: 934.4 | L15: 0 | M15: 0 | N15: 0 | O15: 7943.99 | P15: 1463.5
A16: E | B16: II | C16: Rimborsi e altre entrate correnti | D16: E.3.05.00.00.000 | E16: 55060000 | F16: 55120468 | G16: 0 | H16: 55120468 | I16: -60467.56 | J16: 353857.86 | K16: 0 | L16: 353857.86 | M16: 0 | N16: 353857.86 | O16: 55120468 | P16: 353857.86
A17: E | B17: III | C17: Rimborsi in entrata | D17: E.3.05.02.00.000 | E17: 55060000 | F17: 55120468 | G17: 0 | H17: 55120468 | I17: -60467.56 | J17: 0 | K17: 0 | L17: 0 | M17: 0 | N17: 0 | O17: 55120468 | P17: 0
... A33: E | B33: III | C33: Altre entrate per partite di giro | D33: E.9.01.99.00.000 | E33: 290000 | F33: 647087 | G33: 0 | H33: 647087 | I33: -357087 | J33: 0 | K33: 0 | L33: 0 | M33: 0 | N33: 0 | O33: 647087 | P33: 0
A34: E | B34: IV | C34: Entrate a seguito di spese non andate a buon fine | D34: E.9.01.99.01.000 | E34: 20000 | F34: 18796.99 | G34: 0 | H34: 18796.99 | I34: 1203.01 | J34: 0 | K34: 0 | L34: 0 | M34: 0 | O34: 18796.99 | P34: 0
A35: E | B35: IV | C35: Rimborso di fondi economali e carte aziendali | D35: E.9.01.99.03.000 | E35: 60000 | F35: 0 | G35: 0 | H35: 0 | I35: 60000 | J35: 0 | K35: 0 | L35: 0 | M35: 0 | O35: 0 | P35: 0
A36: E | B36: IV | C36: Altre entrate per partite di giro diverse | D36: E.9.01.99.99.000 | E36: 210000 | F36: 628290.01 | G36: 0 | H36: 628290.01 | I36: -418290.01 | J36: 0 | K36: 0 | L36: 0 | M36: 0 | N36: 0 | O36: 628290.01 | P36: 0
C37: TOTALE ENTRATE | E37: 1.6425409e+08 | F37: 1.6293444e+08 | G37: 36597.13 | H37: 1.6297104e+08 | I37: -1599562 | J37: 2165939.1 | K37: 1791053.8 | L37: 374885.34 | M37: -21027.48 | N37: 353857.86 | O37: 1.6472549e+08 | P37: 390454.99
A39: AUTORITA' DI REGOLAZIONE PER ENERGIA RETI E AMBIENTE | E39: PREVISIONI DEFINITIVE | F39: GESTIONE DI COMPETENZA | J39: GESTIONE DEI RESIDUI PASSIVI | O39: RIEPILOGO
A40: RENDICONTO DELLA GESTIONE PER L'ESERCIZIO 1 GENNAIO 2023 - 31 DICEMBRE 2023 | F40: SOMME IMPEGNATE | J40: Residui all'inizio dell'esercizio | K40: Pagate | L40: Rimasti da pagare | M40: Variazioni / residui insussistenti | N40: Residui finali dell'esercizio precednte
A41: Macro | B41: Livelli | C41: Voce | D41: Codice finale | F41: Pagate | G41: Rimaste da pagare | H41: Totale | I41: Differenze | O41: Totale pagamenti al 31/12/2023 | P41: Consistenza dei residui passivi al 31/12/2023
A42: U | B42: I | C42: Spese correnti | D42: U.1.00.00.00.000 | E42: 1.3877409e+08 | F42: 64055757 | G42: 60326495 | H42: 1.2438225e+08 | I42: 14391834 | J42: 6920353.7 | K42: 4905953.2 | L42: 2014400.4 | M42: -1161339.4 | N42: 853060.99 | O42: 68961710 | P42: 61179556
A43: U | B43: II | C43: Redditi da lavoro dipendente | D43: U.1.01.00.00.000 | E43: 54586000 | F43: 43147554 | G43: 892156.98 | H43: 44039711 | I43: 10546289 | J43: 765224.49 | K43: 765224.49 | L43: 0 | M43: 0 | N43: 0 | O43: 43912779 | P43: 892156.98
A44: U | B44: III | C44: Retribuzioni lorde | D44: U.1.01.01.00.000 | E44: 38036000 | F44: 33133716 | G44: 36893.33 | H44: 33170609 | I44: 4865390.7 | J44: 9331.06 | K44: 9331.06 | L44: 0 | M44: 0 | N44: 0 | O44: 33143047 | P44: 36893.33
A45: U | B45: IV | C45: Retribuzioni in denaro | D45: U.1.01.01.01.000 | E45: 35110000 | F45: 31308367 | G45: 13450.9 | H45: 31321818 | I45: 3788182.2 | J45: 9331.06 | K45: 9331.06 | L45: 0 | M45: 0 | N45: 0 | O45: 31317698 | P45: 13450.9
A46: U | B46: IV | C46: Altre spese per il personale | D46: U.1.01.01.02.000 | E46: 2926000 | F46: 1825349.1 | G46: 23442.43 | H46: 1848791.5 | I46: 1077208.5 | J46: 0 | K46: 0 | L46: 0 | M46: 0 | N46: 0 | O46: 1825349.1 | P46: 23442.43
A47: U | B47: III | C47: Contributi sociali a carico dell'ente | D47: U.1.01.02.00.000 | E47: 16550000 | F47: 10013838 | G47: 855263.65 | H47: 10869102 | I47: 5680898.3 | J47: 755893.43 | K47: 755893.43 | L47: 0 | M47: 0 | N47: 0 | O47: 10769732 | P47: 855263.65
A48: U | B48: IV | C48: Contributi sociali effettivi a carico dell'ente | D48: U.1.01.02.01.000 | E48: 11550000 | F48: 8886064.2 | G48: 855263.65 | H48: 9741327.9 | I48: 1808672.1 | J48: 755893.43 | K48: 755893.43 | L48: 0 | M48: 0 | N48: 0 | O48: 9641957.6 | P48: 855263.65
A49: U | B49: IV | C49: Contributi sociali figurativi | D49: U.1.01.02.02.000 | E49: 5000000 | F49: 1127773.9 | G49: 0 | H49: 1127773.9 | I49: 3872226.1 | J49: 0 | K49: 0 | L49: 0 | M49: 0 | N49: 0 | O49: 1127773.9 | P49: 0
A50: U | B50: II | C50: Imposte e tasse a carico dell'ente | D50: U.1.02.00.00.000 | E50: 3695000 | F50: 2375280.1 | G50: 430342.53 | H50: 2805622.6 | I50: 889377.39 | J50: 408557.98 | K50: 408557.98 | L50: 0 | M50: 0 | N50: 0 | O50: 2783838.1 | P50: 430342.53
A51: U | B51: III | C51: Imposte, tasse e proventi assimilati a carico dell'ente | D51: U.1.02.01.00.000 | E51: 3695000 | F51: 2375280.1 | G51: 430342.53 | H51: 2805622.6 | I51: 889377.39 | J51: 408557.98 | K51: 408557.98 | L51: 0 | M51: 0 | N51: 0 | O51: 2783838.1 | P51: 430342.53
A52: U | B52: IV | C52: Imposta regionale sulle attività produttive (IRAP) | D52: U.1.02.01.01.000 | E52: 3635000 | F52: 2339519.2 | G52: 430342.53 | H52: 2769861.7 | I52: 865138.26 | J52: 408557.98 | K52: 408557.98 | L52: 0 | M52: 0 | N52: 0 | O52: 2748077.2 | P52: 430342.53
A53: U | B53: IV | C53: Tassa e/o tariffa smaltimento rifiuti solidi urbani | D53: U.1.02.01.06.000 | E53: 60000 | F53: 35760.87 | G53: 0 | H53: 35760.87 | I53: 24239.13 | J53: 0 | K53: 0 | L53: 0 | M53: 0 | N53: 0 | O53: 35760.87 | P53: 0
... A122: U | B122: III | C122: Altre uscite per partite di giro | D122: U.7.01.99.00.000 | E122: 290000 | F122: 647087 | G122: 0 | H122: 647087 | I122: -357087 | J122: 0 | K122: 0 | L122: 0 | M122: 0 | N122: 0 | O122: 647087 | P122: 0
A123: U | B123: IV | C123: Spese non andate a buon fine | D123: U.7.01.99.01.000 | E123: 20000 | F123: 18796.99 | G123: 0 | H123: 18796.99 | I123: 1203.01 | J123: 0 | K123: 0 | L123: 0 | M123: 0 | O123: 18796.99 | P123: 0
A124: U | B124: IV | C124: Costituzione fondi economali e carte aziendali | D124: U.7.01.99.03.000 | E124: 60000 | F124: 0 | G124: 0 | H124: 0 | I124: 60000 | J124: 0 | K124: 0 | L124: 0 | M124: 0 | O124: 0 | P124: 0
A125: U | B125: IV | C125: Altre uscite per partite di giro diverse | D125: E.9.01.99.99.000 | E125: 210000 | F125: 628290.01 | G125: 0 | H125: 628290.01 | I125: -418290.01 | J125: 0 | K125: 0 | L125: 0 | M125: 0 | O125: 628290.01 | P125: 0
...

Sheet bilancio riclassificato 4 liv.
A1: AUTORITA' DI REGOLAZIONE PER ENERGIA RETI E AMBIENTE | E1: PREVISIONI DEFINITIVE | F1: GESTIONE DI COMPETENZA | J1: GESTIONE DEI RESIDUI ATTIVI | O1: RIEPILOGO
A2: RENDICONTO DELLA GESTIONE PER L'ESERCIZIO 1 GENNAIO 2023 - 31 DICEMBRE 2023 | F2: SOMME ACCERTATE | J2: Residui all'inizio dell'esercizio | K2: Riscossi | L2: Rimasti da riscuotere | M2: Variazioni / residui insussistenti | N2: Residui finali dell'esercizio precednte
A3: Macro | B3: Livelli | C3: Voce | D3: Codice finale | F3: Riscosse | G3: Rimaste da riscuotere | H3: Totale | I3: Differenze | O3: Totale incassi al 31/12/2023 | P3: Consistenza dei residui attivi al 31/12/2023
C4: AVANZO DI AMMINISTRAZIONE DISPONIBILE | E4: 8000000 | F4: 0 | G4: 0 | H4: 0 | I4: 5117387.1 | J4: 0 | K4: 0 | L4: 0 | M4: 0 | N4: 0 | O4: 0 | P4: 0
A6: E | B6: I | C6: Entrate correnti di natura tributaria, contributiva e perequativa | D6: E.1.00.00.00.000 | E6: 82258087 | F6: 89285950 | G6: 0 | H6: 89285950 | I6: -7027863.4 | J6: 1788969.6 | K6: 1788969.6 | L6: 0 | M6: 0 | N6: 0 | O6: 91074920 | P6: 0
A7: E | B7: II | C7: Tributi | D7: E.1.01.00.00.000 | E7: 82258087 | F7: 89285950 | G7: 0 | H7: 89285950 | I7: -7027863.4 | J7: 1788969.6 | K7: 1788969.6 | L7: 0 | M7: 0 | N7: 0 | O7: 91074920 | P7: 0
A8: E | B8: III | C8: Imposte, tasse e proventi assimilati | D8: E.1.01.01.00.000 | E8: 82258087 | F8: 89285950 | G8: 0 | H8: 89285950 | I8: -7027863.4 | J8: 1788969.6 | K8: 1788969.6 | L8: 0 | M8: 0 | N8: 0 | O8: 91074920 | P8: 0
A9: E | B9: IV | C9: Altre imposte, tasse e proventi assimilati n.a.c. | D9: E.1.01.01.99.000 | E9: 82258087 | F9: 89285950 | G9: 0 | H9: 89285950 | I9: -7027863.4 | J9: 1788969.6 | K9: 1788969.6 | L9: 0 | M9: 0 | N9: 0 | O9: 91074920 | P9: 0
A10: E | B10: I | C10: Trasferimenti correnti | D10: E.2.00.00.00.000 | E10: 0 | F10: 0 | G10: 0 | H10: 0 | I10: 0 | J10: 0 | K10: 0 | L10: 0 | M10: 0 | N10: 0 | O10: 0 | P10: 0
A11: E | B11: II | C11: Trasferimenti correnti | D11: E.2.01.00.00.000 | E11: 0 | F11: 0 | G11: 0 | H11: 0 | I11: 0 | J11: 0 | K11: 0 | L11: 0 | M11: 0 | N11: 0 | O11: 0 | P11: 0
A12: E | B12: III | C12: Trasferimenti correnti da Amministrazioni pubbliche | D12: E.2.01.01.00.000 | E12: 0 | F12: 0 | G12: 0 | H12: 0 | I12: 0 | J12: 0 | K12: 0 | L12: 0 | M12: 0 | N12: 0 | O12: 0 | P12: 0
A13: E | B13: IV | C13: Trasferimenti correnti da Amministrazioni Centrali | D13: E.2.01.01.01.000 | E13: 0 | F13: 0 | G13: 0 | H13: 0 | I13: 0 | J13: 0 | K13: 0 | L13: 0 | M13: 0 | N13: 0 | O13: 0 | P13: 0
A14: E | B14: III | C14: Trasferimenti correnti da Imprese | D14: E.2.01.03.00.000 | E14: 0 | F14: 0 | G14: 0 | H14: 0 | I14: 0 | J14: 0 | K14: 0 | L14: 0 | M14: 0 | N14: 0 | O14: 0 | P14: 0
A15: E | B15: IV | C15: Altri trasferimenti correnti da imprese | D15: E.2.01.03.02.000 | E15: 0 | F15: 0 | G15: 0 | H15: 0 | I15: 0 | J15: 0 | K15: 0 | L15: 0 | M15: 0 | N15: 0 | O15: 0 | P15: 0
A16: E | B16: I | C16: Entrate extratributarie | D16: E.3.00.00.00.000 | E16: 55066000 | F16: 55127477 | G16: 1463.5 | H16: 55128941 | I16: -62940.65 | J16: 354792.26 | K16: 934.4 | L16: 353857.86 | M16: 0 | N16: 353857.86 | O16: 55128412 | P16: 355321.36
A17: E | B17: II | C17: Interessi attivi | D17: E.3.03.00.00.000 | E17: 6000 | F17: 7009.59 | G17: 1463.5 | H17: 8473.09 | I17: -2473.09 | J17: 934.4 | K17: 934.4 | L17: 0 | M17: 0 | N17: 0 | O17: 7943.99 | P17: 1463.5
... A19: E | B19: IV | C19: Interessi attivi da conti di tesoreria | D19: E.3.03.03.03.000 | E19: 900 | F19: 0 | G19: 814.73 | H19: 814.73 | I19: 85.27 | J19: 272.03 | K19: 272.03 | L19: 0 | M19: 0 | N19: 0 | O19: 272.03 | P19: 814.73
C20: Interessi attivi da depositi bancari o postali | D20: E.3.03.03.04.000 | E20: 100 | F20: 1535.19 | G20: 648.77 | H20: 2183.96 | I20: -2083.96 | J20: 662.37 | K20: 662.37 | L20: 0 | M20: 0 | N20: 0 | O20: 2197.56 | P20: 648.77
A21: E | B21: IV | C21: Altri interessi attivi diversi | D21: E.3.03.03.99.000 | E21: 5000 | F21: 5474.4 | G21: 0 | H21: 5474.4 | I21: -474.4 | J21: 0 | K21: 0 | L21: 0 | M21: 0 | N21: 0 | O21: 5474.4 | P21: 0
A22: E | B22: II | C22: Rimborsi e altre entrate correnti | D22: E.3.05.00.00.000 | E22: 55060000 | F22: 55120468 | G22: 0 | H22: 55120468 | I22: -60467.56 | J22: 353857.86 | K22: 0 | L22: 353857.86 | M22: 0 | N22: 353857.86 | O22: 55120468 | P22: 353857.86
A23: E | B23: III | C23: Rimborsi in entrata | D23: E.3.05.02.00.000 | E23: 55060000 | F23: 55120468 | G23: 0 | H23: 55120468 | I23: -60467.56 | J23: 0 | K23: 0 | L23: 0 | M23: 0 | N23: 0 | O23: 55120468 | P23: 0
A24: E | B24: IV | C24: Rimborsi ricevuti per spese di personale (comando, distacco, fuori ruolo, convenzioni, ecc…) | D24: E.3.05.02.01.000 | E24: 0 | F24: 47475.59 | G24: 0 | H24: 47475.59 | I24: -47475.59 | J24: 0 | K24: 0 | L24: 0 | M24: 0 | N24: 0 | O24: 47475.59 | P24: 0
A25: E | B25: IV | C25: Entrate da rimborsi, recuperi e restituzioni di somme non dovute o incassate in eccesso | D25: E.3.05.02.03.000 | E25: 55060000 | F25: 55072992 | G25: 0 | H25: 55072992 | I25: -12991.97 | J25: 0 | K25: 0 | L25: 0 | M25: 0 | N25: 0 | O25: 55072992 | P25: 0
A26: E | B26: III | C26: Altre entrate correnti n.a.c. | D26: E.3.05.99.00.000 | E26: 0 | F26: 0 | G26: 0 | H26: 0 | I26: 0 | J26: 353857.86 | K26: 0 | L26: 353857.86 | M26: 0 | N26: 353857.86 | O26: 0 | P26: 353857.86
A27: E | B27: IV | C27: Altre entrate correnti n.a.c. | D27: E.3.05.99.99.000 | E27: 0 | F27: 0 | G27: 0 | H27: 0 | I27: 0 | J27: 353857.86 | K27: 0 | L27: 353857.86 | M27: 0 | N27: 353857.86 | O27: 0 | P27: 353857.86
A28: E | B28: I | C28: Entrate per conto terzi e partite di giro | D28: E.9.00.00.00.000 | E28: 18930000 | F28: 18521011 | G28: 35133.63 | H28: 18556145 | I28: 373854.92 | J28: 22177.29 | K28: 1149.81 | L28: 21027.48 | M28: -21027.48 | N28: 0 | O28: 18522161 | P28: 35133.63
A29: E | B29: II | C29: Entrate per partite di giro | D29: E.9.01.00.00.000 | E29: 18930000 | F29: 18521011 | G29: 35133.63 | H29: 18556145 | I29: 373854.92 | J29: 22177.29 | K29: 1149.81 | L29: 21027.48 | M29: -21027.48 | N29: 0 | O29: 18522161 | P29: 35133.63
A30: E | B30: III | C30: Altre ritenute | D30: E.9.01.01.00.000 | E30: 3010000 | F30: 2069173.5 | G30: 4673.61 | H30: 2073847.1 | I30: 936152.93 | J30: 2798.47 | K30: 1149.81 | L30: 1648.66 | M30: -1648.66 | N30: 0 | O30: 2070323.3 | P30: 4673.61
A31: E | B31: IV | C31: Ritenute per scissione contabile IVA (split payment) | D31: E.9.01.01.02.000 | E31: 2500000 | F31: 1927022.4 | G31: 0 | H31: 1927022.4 | I31: 572977.6 | J31: 0 | K31: 0 | L31: 0 | M31: 0 | N31: 0 | O31: 1927022.4 | P31: 0
A32: E | B32: IV | C32: Altre ritenute n.a.c. | D32: E.9.01.01.99.000 | E32: 510000 | F32: 142151.06 | G32: 4673.61 | H32: 146824.67 | I32: 363175.33 | J32: 2798.47 | K32: 1149.81 | L32: 1648.66 | M32: -1648.66 | N32: 0 | O32: 143300.87 | P32: 4673.61
... A44: E | B44: IV | C44: Altre entrate per partite di giro diverse | D44: E.9.01.99.99.000 | E44: 210000 | F44: 628290.01 | G44: 0 | H44: 628290.01 | I44: -418290.01 | J44: 0 | K44: 0 | L44: 0 | M44: 0 | N44: 0 | O44: 628290.01 | P44: 0
C45: TOTALE ENTRATE | E45: 1.6425409e+08 | F45: 1.6293444e+08 | G45: 36597.13 | H45: 1.6297104e+08 | I45: -1599562 | J45: 2165939.1 | K45: 1791053.8 | L45: 374885.34 | M45: -21027.48 | N45: 353857.86 | O45: 1.6472549e+08 | P45: 390454.99
A48: AUTORITA' DI REGOLAZIONE PER ENERGIA RETI E AMBIENTE | E48: PREVISIONI DEFINITIVE | F48: GESTIONE DI COMPETENZA | J48: GESTIONE DEI RESIDUI PASSIVI | O48: RIEPILOGO
A49: RENDICONTO DELLA GESTIONE PER L'ESERCIZIO 1 GENNAIO 2023 - 31 DICEMBRE 2023 | F49: SOMME IMPEGNATE | J49: Residui all'inizio dell'esercizio | K49: Pagate | L49: Rimasti da pagare | M49: Variazioni / residui insussistenti | N49: Residui finali dell'esercizio precednte
A50: Macro | B50: Livelli | C50: Voce | D50: Codice finale | F50: Pagate | G50: Rimaste da pagare | H50: Totale | I50: Differenze | O50: Totale pagamenti al 31/12/2023 | P50: Consistenza dei residui passivi al 31/12/2023
A51: U | B51: I | C51: Spese correnti | D51: U.1.00.00.00.000 | E51: 1.3877409e+08 | F51: 64055757 | G51: 60326495 | H51: 1.2438225e+08 | I51: 14391834 | J51: 6920353.7 | K51: 4905953.2 | L51: 2014400.4 | M51: -1161339.4 | N51: 853060.99 | O51: 68961710 | P51: 61179556
A52: U | B52: II | C52: Redditi da lavoro dipendente | D52: U.1.01.00.00.000 | E52: 54586000 | F52: 43147554 | G52: 892156.98 | H52: 44039711 | I52: 10546289 | J52: 765224.49 | K52: 765224.49 | L52: 0 | M52: 0 | N52: 0 | O52: 43912779 | P52: 892156.98
A53: U | B53: III | C53: Retribuzioni lorde | D53: U.1.01.01.00.000 | E53: 38036000 | F53: 33133716 | G53: 36893.33 | H53: 33170609 | I53: 4865390.7 | J53: 9331.06 | K53: 9331.06 | L53: 0 | M53: 0 | N53: 0 | O53: 33143047 | P53: 36893.33
A54: U | B54: IV | C54: Retribuzioni in denaro | D54: U.1.01.01.01.000 | E54: 35110000 | F54: 31308367 | G54: 13450.9 | H54: 31321818 | I54: 3788182.2 | J54: 9331.06 | K54: 9331.06 | L54: 0 | M54: 0 | N54: 0 | O54: 31317698 | P54: 13450.9
A55: U | B55: IV | C55: Altre spese per il personale | D55: U.1.01.01.02.000 | E55: 2926000 | F55: 1825349.1 | G55: 23442.43 | H55: 1848791.5 | I55: 1077208.5 | J55: 0 | K55: 0 | L55: 0 | M55: 0 | N55: 0 | O55: 1825349.1 | P55: 23442.43
...

Sheet bilancio riclassificato 5 liv.
A1: AUTORITA' DI REGOLAZIONE PER ENERGIA RETI E AMBIENTE | D1: DESCRIZIONE CAPITOLO | F1: PREVISIONI DEFINITIVE | G1: GESTIONE DI COMPETENZA | K1: GESTIONE DEI RESIDUI ATTIVI | P1: RIEPILOGO
A2: RENDICONTO DELLA GESTIONE PER L'ESERCIZIO 1 GENNAIO 2023 - 31 DICEMBRE 2023 | G2: SOMME ACCERTATE | K2: Residui all'inizio dell'esercizio precedente | L2: Riscossi | M2: Rimasti da riscuotere | N2: Variazioni / residui insussistenti | O2: Residui finali dell'esercizio precednte
A3: Macro | B3: Livelli | C3: Voce | D3: Codice finale | E3: CAPITOLO ARERA | G3: Riscosse | H3: Rimaste da riscuotere | I3: Totale | J3: Differenze | P3: Totale incassi al 31/12/2023 | Q3: Consistenza dei residui attivi al 31/12/2023
C4: AVANZO DI AMMINISTRAZIONE DISPONIBILE | F4: 8000000 | H4: 0 | I4: 0 | J4: 5117387.1 | K4: 0 | L4: 0 | M4: 0 | N4: 0 | O4: 0 | P4: 0 | Q4: 0
C5: di cui utilizzo Avanzo accantonato Fondo compensazione entrate | F5: 0 | J5: 0
C6: di cui utilizzo Avanzo accantonato Fondo rischi e oneri | F6: 0 | G6: - | H6: 0 | I6: 0 | J6: 0 | K6: 0 | L6: 0 | M6: 0 | N6: 0 | O6: 0 | P6: 0 | Q6: 0
C7: di cui utilizzo Avanzo accantonato Fondo ristrutturazione immobile | F7: 5500000 | G7: - | H7: 0 | I7: 0 | J7: 5112452.5 | K7: 0 | L7: 0 | M7: 0 | N7: 0 | O7: 0 | P7: 0 | Q7: 0
C8: di cui utilizzo Fondo trattamento di quiescenza | F8: 2500000 | G8: - | I8: - | J8: 4934.66 | K8: 0 | L8: 0 | M8: 0 | N8: 0 | O8: 0 | P8: 0 | Q8: 0
A9: E | B9: I | C9: Entrate correnti di natura tributaria, contributiva e perequativa | D9: E.1.00.00.00.000 | F9: 82258087 | G9: 89285950 | H9: 0 | I9: 89285950 | J9: -7027863.4 | K9: 1788969.6 | L9: 1788969.6 | M9: 0 | N9: 0 | O9: 0 | P9: 91074920 | Q9: 0
A10: E | B10: II | C10: Tributi | D10: E.1.01.00.00.000 | F10: 82258087 | G10: 89285950 | H10: 0 | I10: 89285950 | J10: -7027863.4 | K10: 1788969.6 | L10: 1788969.6 | M10: 0 | N10: 0 | O10: 0 | P10: 91074920 | Q10: 0
A11: E | B11: III | C11: Imposte, tasse e proventi assimilati | D11: E.1.01.01.00.000 | F11: 82258087 | G11: 89285950 | H11: 0 | I11: 89285950 | J11: -7027863.4 | K11: 1788969.6 | L11: 1788969.6 | M11: 0 | N11: 0 | O11: 0 | P11: 91074920 | Q11: 0
A12: E | B12: IV | C12: Altre imposte, tasse e proventi assimilati n.a.c. | D12: E.1.01.01.99.000 | F12: 82258087 | G12: 89285950 | H12: 0 | I12: 89285950 | J12: -7027863.4 | K12: 1788969.6 | L12: 1788969.6 | M12: 0 | N12: 0 | O12: 0 | P12: 91074920 | Q12: 0
A13: E | B13: V | C13: Altre imposte, tasse e proventi assimilati n.a.c. riscosse a seguito dell'attività ordinaria di gestione | D13: E.1.01.01.99.001 | E13: 101.1 | F13: 81758087 | G13: 88868299 | H13: 0 | I13: 88868299 | J13: -7110212.1 | K13: 1788969.6 | L13: 1788969.6 | M13: 0 | N13: 0 | O13: 0 | P13: 90657269 | Q13: 0
A14: E | B14: V | C14: Altre imposte, tasse e proventi assimilati n.a.c. riscosse a seguito di attività di verifica e controllo | D14: E.1.01.01.99.002 | E14: 101.2 | F14: 500000 | G14: 417651.29 | H14: 0 | I14: 417651.29 | J14: 82348.71 | K14: 0 | L14: 0 | M14: 0 | N14: 0 | O14: 0 | P14: 417651.29 | Q14: 0
A15: E | B15: III | C15: Tributi destinati al finanziamento della sanità | D15: E.1.01.02.00.000 | J15: 0 | P15: 0 | Q15: 0
A16: E | B16: III | C16: Tributi devoluti e regolati alle autonomie speciali | D16: E.1.01.03.00.000 | J16: 0 | P16: 0 | Q16: 0
A17: E | B17: III | C17: Compartecipazioni di tributi | D17: E.1.01.04.00.000 | J17: 0 | P17: 0 | Q17: 0
A18: E | B18: II | C18: Contributi sociali e premi | D18: E.1.02.00.00.000 | J18: 0 | P18: 0 | Q18: 0
A19: E | B19: III | C19: Contributi sociali e premi a carico del datore di lavoro e dei lavoratori | D19: E.1.02.01.00.000 | J19: 0 | P19: 0 | Q19: 0
A20: E | B20: III | C20: Contributi sociali a carico delle persone non occupate | D20: E.1.02.02.00.000 | J20: 0 | P20: 0 | Q20: 0
A21: E | B21: II | C21: Fondi perequativi | D21: E.1.03.00.00.000 | J21: 0 | P21: 0 | Q21: 0
A22: E | B22: III | C22: Fondi perequativi da Amministrazioni Centrali | D22: E.1.03.01.00.000 | J22: 0 | P22: 0 | Q22: 0
A23: E | B23: III | C23: Fondi perequativi dalla Regione o Provincia autonoma | D23: E.1.03.02.00.000 | J23: 0 | P23: 0 | Q23: 0
A24: E | B24: I | C24: Trasferimenti correnti | D24: E.2.00.00.00.000 | F24: 0 | G24: 0 | H24: 0 | I24: 0 | J24: 0 | K24: 0 | L24: 0 | M24: 0 | N24: 0 | O24: 0 | P24: 0 | Q24: 0
A25: E | B25: II | C25: Trasferimenti correnti | D25: E.2.01.00.00.000 | F25: 0 | G25: 0 | H25: 0 | I25: 0 | J25: 0 | K25: 0 | L25: 0 | M25: 0 | N25: 0 | O25: 0 | P25: 0 | Q25: 0
A26: E | B26: III | C26: Trasferimenti correnti da Amministrazioni pubbliche | D26: E.2.01.01.00.000 | F26: 0 | G26: 0 | H26: 0 | I26: 0 | J26: 0 | K26: 0 | L26: 0 | M26: 0 | N26: 0 | O26: 0 | P26: 0 | Q26: 0
A27: E | B27: IV | C27: Trasferimenti correnti da Amministrazioni Centrali | D27: E.2.01.01.01.000 | F27: 0 | G27: 0 | H27: 0 | I27: 0 | J27: 0 | K27: 0 | L27: 0 | M27: 0 | N27: 0 | O27: 0 | P27: 0 | Q27: 0
A28: E | B28: V | C28: Trasferimenti correnti da autorità amministrative indipendenti | D28: E.2.01.01.01.010 | E28: 103.1 | F28: 0 | G28: 0 | H28: 0 | I28: 0 | J28: 0 | K28: 0 | L28: 0 | M28: 0 | N28: 0 | O28: 0 | P28: 0 | Q28: 0
A29: E | B29: III | C29: Trasferimenti correnti da Famiglie | D29: E.2.01.02.00.000 | J29: 0 | O29: 0 | P29: 0
A30: E | B30: III | C30: Trasferimenti correnti da Imprese | D30: E.2.01.03.00.000 | F30: 0 | G30: 0 | H30: 0 | I30: 0 | J30: 0 | K30: 0 | L30: 0 | M30: 0 | N30: 0 | O30: 0 | P30: 0 | Q30: 0
A31: E | B31: IV | C31: Altri trasferimenti correnti da imprese | D31: E.2.01.03.02.000 | F31: 0 | G31: 0 | H31: 0 | I31: 0 | J31: 0 | K31: 0 | L31: 0 | M31: 0 | N31: 0 | O31: 0 | P31: 0 | Q31: 0
A32: E | B32: V | C32: Altri trasferimenti correnti da altre imprese | D32: E.2.01.03.02.999 | E32: 101.1 - 101.2 | J32: 0 | L32: 0 | M32: 0 | N32: 0 | O32: 0 | P32: 0 | Q32: 0
A33: E | B33: III | C33: Trasferimenti correnti da Istituzioni Sociali Private | D33: E.2.01.04.00.000 | J33: 0 | O33: 0 | P33: 0 | Q33: 0
A34: E | B34: III | C34: Trasferimenti correnti dall'Unione Europea e dal Resto del Mondo | D34: E.2.01.05.00.000 | F34: 0 | G34: 0 | H34: 0 | I34: 0 | J34: 0 | K34: 0 | L34: 0 | M34: 0 | N34: 0 | O34: 0 | P34: 0 | Q34: 0
A35: E | B35: IV | C35: Trasferimenti correnti dall'Unione Europea | D35: E.2.01.05.01.000 | F35: 0 | G35: 0 | H35: 0 | I35: 0 | J35: 0 | K35: 0 | L35: 0 | M35: 0 | N35: 0 | O35: 0 | P35: 0 | Q35: 0
A36: E | B36: V | C36: Trasferimenti correnti dall'Unione Europea | D36: E.2.01.05.01.001 | E36: 104 | F36: 0 | G36: 0 | H36: 0 | I36: 0 | J36: 0 | K36: 0 | L36: 0 | M36: 0 | N36: 0 | O36: 0 | P36: 0 | Q36: 0
A37: E | B37: I | C37: Entrate extratributarie | D37: E.3.00.00.00.000 | F37: 55066000 | G37: 55127477 | H37: 1463.5 | I37: 55128941 | J37: -62940.65 | K37: 354792.26 | L37: 934.4 | M37: 353857.86 | N37: 0 | O37: 353857.86 | P37: 55128412 | Q37: 355321.36
A38: E | B38: II | C38: Vendita di beni e servizi e proventi derivanti dalla gestione dei beni | D38: E.3.01.00.00.000 | F38: 0 | G38: 0 | H38: 0 | I38: 0 | J38: 0 | K38: 0 | L38: 0 | M38: 0 | N38: 0 | O38: 0 | P38: 0 | Q38: 0
A39: E | B39: III | C39: Vendita di beni | D39: E.3.01.01.00.000 | J39: 0 | O39: 0 | P39: 0 | Q39: 0
A40: E | B40: III | C40: Entrate dalla vendita e dall'erogazione di servizi | D40: E.3.01.02.00.000 | J40: 0 | O40: 0 | P40: 0 | Q40: 0
...

Sheet variazioni eservizio precedente
A3: AUTORITA' DI REGOLAZIONE PER ENERGIA RETI E AMBIENTE | E3: RENDICONTO 2022 | F3: RENDICONTO 2023 | G3: Composizione entrate 2023 | I3: Variazioni esercizio precedente 2022 - 2023
A4: RENDICONTO DELLA GESTIONE PER L'ESERCIZIO 1 GENNAIO 2023 - 31 DICEMBRE 2023
A5: MACRO | B5: Livelli | C5: Voce | D5: Codice finale | I5: Variazione in € | J5: Variazioni in %
C6: AVANZO DI AMMINISTRAZIONE DISPONIBILE | E6: - | F6: - | G6: -
A8: E | B8: I | C8: Entrate correnti di natura tributaria, contributiva e perequativa | D8: E.1.00.00.00.000 | E8: 76087954 | F8: 89285950 | G8: 0.61826 | I8: 13197996 | J8: 0.1734571
A9: E | B9: II | C9: Tributi | D9: E.1.01.00.00.000 | E9: 76087954 | F9: 89285950 | G9: 0.61826 | I9: 13197996 | J9: 0.1734571
A10: E | B10: III | C10: Imposte, tasse e proventi assimilati | D10: E.1.01.01.00.000 | E10: 76087954 | F10: 89285950 | G10: 0.61826 | I10: 13197996 | J10: 0.1734571
A11: E | B11: IV | C11: Altre imposte, tasse e proventi assimilati n.a.c. | D11: E.1.01.01.99.000 | E11: 76087954 | F11: 89285950 | I11: 13197996 | J11: 0.1734571
A12: E | B12: V | C12: Altre imposte, tasse e proventi assimilati n.a.c. riscosse a seguito dell'attività ordinaria di gestione | D12: E.1.01.01.99.001 | E12: 74973663 | F12: 88868299 | I12: 13894637 | J12: 0.1853269
A13: E | B13: V | C13: Altre imposte, tasse e proventi assimilati n.a.c. riscosse a seguito di attività di verifica e controllo | D13: E.1.01.01.99.002 | E13: 1114291.8 | F13: 417651.29 | I13: -696640.46 | J13: -0.62518677
A14: E | B14: III | C14: Tributi destinati al finanziamento della sanità | D14: E.1.01.02.00.000 | J14: #DIV/0!
A15: E | B15: III | C15: Tributi devoluti e regolati alle autonomie speciali | D15: E.1.01.03.00.000 | J15: #DIV/0!
A16: E | B16: III | C16: Compartecipazioni di tributi | D16: E.1.01.04.00.000 | J16: #DIV/0!
A17: E | B17: II | C17: Contributi sociali e premi | D17: E.1.02.00.00.000 | J17: #DIV/0!
A18: E | B18: III | C18: Contributi sociali e premi a carico del datore di lavoro e dei lavoratori | D18: E.1.02.01.00.000 | J18: #DIV/0!
A19: E | B19: III | C19: Contributi sociali a carico delle persone non occupate | D19: E.1.02.02.00.000 | J19: #DIV/0!
A20: E | B20: II | C20: Fondi perequativi | D20: E.1.03.00.00.000 | J20: #DIV/0!
A21: E | B21: III | C21: Fondi perequativi da Amministrazioni Centrali | D21: E.1.03.01.00.000 | J21: #DIV/0!
A22: E | B22: III | C22: Fondi perequativi dalla Regione o Provincia autonoma | D22: E.1.03.02.00.000 | J22: #DIV/0!
A23: E | B23: I | C23: Trasferimenti correnti | D23: E.2.00.00.00.000 | E23: 0 | F23: 0 | G23: 0 | I23: 0 | J23: #DIV/0!
A24: E | B24: II | C24: Trasferimenti correnti | D24: E.2.01.00.00.000 | E24: 0 | F24: 0 | G24: 0 | I24: 0 | J24: 0
A25: E | B25: III | C25: Trasferimenti correnti da Amministrazioni pubbliche | D25: E.2.01.01.00.000 | E25: 0 | F25: 0 | G25: 0 | I25: 0 | J25: 0
A26: E | B26: IV | C26: Trasferimenti correnti da Amministrazioni Centrali | D26: E.2.01.01.01.000 | E26: 0 | F26: 0 | I26: 0 | J26: 0
A27: E | B27: V | C27: Trasferimenti correnti da autorità amministrative indipendenti | D27: E.2.01.01.01.010 | E27: 0 | F27: 0 | I27: 0 | J27: 0
A28: E | B28: III | C28: Trasferimenti correnti da Famiglie | D28: E.2.01.02.00.000 | E28: 0 | F28: 0 | J28: #DIV/0!
A29: E | B29: III | C29: Trasferimenti correnti da Imprese | D29: E.2.01.03.00.000 | E29: 0 | F29: 0 | G29: 0 | I29: 0 | J29: 0
A30: E | B30: IV | C30: Altri trasferimenti correnti da imprese | D30: E.2.01.03.02.000 | E30: 0 | F30: 0 | I30: 0 | J30: 0
A31: E | B31: V | C31: Altri trasferimenti correnti da altre imprese | D31: E.2.01.03.02.999 | E31: 0 | F31: 0 | I31: 0 | J31: 0
A32: E | B32: III | C32: Trasferimenti correnti da Istituzioni Sociali Private | D32: E.2.01.04.00.000 | E32: 0 | F32: 0 | I32: 0 | J32: #DIV/0!
A33: E | B33: III | C33: Trasferimenti correnti dall'Unione Europea e dal Resto del Mondo | D33: E.2.01.05.00.000 | E33: 0 | F33: 0 | I33: 0 | J33: #DIV/0!
A34: E | B34: IV | C34: Trasferimenti correnti dall'Unione Europea | D34: E.2.01.05.01.000 | E34: 0 | F34: 0 | I34: 0 | J34: #DIV/0!
A35: E | B35: V | C35: Trasferimenti correnti dall'Unione Europea | D35: E.2.01.05.01.001 | E35: 0 | F35: 0 | I35: 0 | J35: #DIV/0!
A36: E | B36: I | C36: Entrate extratributarie | D36: E.3.00.00.00.000 | E36: 70189.76 | F36: 55128941 | G36: 0.38174 | I36: 55058751 | J36: 784.42711
A37: E | B37: II | C37: Vendita di beni e servizi e proventi derivanti dalla gestione dei beni | D37: E.3.01.00.00.000 | E37: 0 | F37: 0 | I37: 0 | J37: #DIV/0!
A38: E | B38: III | C38: Vendita di beni | D38: E.3.01.01.00.000 | E38: 0 | F38: 0 | I38: 0 | J38: #DIV/0!
A39: E | B39: III | C39: Entrate dalla vendita e dall'erogazione di servizi | D39: E.3.01.02.00.000 | E39: 0 | F39: 0 | I39: 0 | J39: #DIV/0!
A40: E | B40: III | C40: Proventi derivanti dalla gestione dei beni | D40: E.3.01.03.00.000 | E40: 0 | F40: 0 | I40: 0 | J40: #DIV/0!
A41: E | B41: II | C41: Proventi derivanti dall'attività di controllo e repressione delle irregolarità e degli illeciti | D41: E.3.02.00.00.000 | E41: 0 | F41: 0 | I41: 0 | J41: #DIV/0!
A42: E | B42: III | C42: Entrate da amministrazioni pubbliche derivanti dall'attività di controllo e repressione delle irregolarità e degli illeciti | D42: E.3.02.01.00.000 | E42: 0 | F42: 0 | I42: 0 | J42: #DIV/0!
A43: E | B43: III | C43: Entrate da famiglie derivanti dall'attività di controllo e repressione delle irregolarità e degli illeciti | D43: E.3.02.02.00.000 | E43: 0 | F43: 0 | I43: 0 | J43: #DIV/0!
...

Sheet Prospetto residui
A3: AUTORITA' DI REGOLAZIONE PER ENERGIA RETI E AMBIENTE | E3: RESIDUI RIACCERTATI RENDICONTO 2023 | F3: RESIDUI INSUSSISTENTI RENDICONTO 2023
A4: RENDICONTO DELLA GESTIONE PER L'ESERCIZIO 1 GENNAIO 2023 - 31 DICEMBRE 2023
A5: MACRO | B5: Livelli | C5: Voce | D5: Codice finale
A7: E | B7: I | C7: Entrate correnti di natura tributaria, contributiva e perequativa | D7: E.1.00.00.00.000 | E7: 0 | F7: 0
A8: E | B8: II | C8: Tributi | D8: E.1.01.00.00.000 | E8: 0 | F8: 0
A9: E | B9: III | C9: Imposte, tasse e proventi assimilati | D9: E.1.01.01.00.000 | E9: 0 | F9: 0
A10: E | B10: IV | C10: Altre imposte, tasse e proventi assimilati n.a.c. | D10: E.1.01.01.99.000 | E10: 0 | F10: 0
A11: E | B11: V | C11: Altre imposte, tasse e proventi assimilati n.a.c. riscosse a seguito dell'attività ordinaria di gestione | D11: E.1.01.01.99.001 | E11: 0 | F11: 0
A12: E | B12: V | C12: Altre imposte, tasse e proventi assimilati n.a.c. riscosse a seguito di attività di verifica e controllo | D12: E.1.01.01.99.002 | E12: 0 | F12: 0
A13: E | B13: III | C13: Tributi destinati al finanziamento della sanità | D13: E.1.01.02.00.000
A14: E | B14: III | C14: Tributi devoluti e regolati alle autonomie speciali | D14: E.1.01.03.00.000
A15: E | B15: III | C15: Compartecipazioni di tributi | D15: E.1.01.04.00.000
A16: E | B16: II | C16: Contributi sociali e premi | D16: E.1.02.00.00.000
A17: E | B17: III | C17: Contributi sociali e premi a carico del datore di lavoro e dei lavoratori | D17: E.1.02.01.00.000
A18: E | B18: III | C18: Contributi sociali a carico delle persone non occupate | D18: E.1.02.02.00.000
A19: E | B19: II | C19: Fondi perequativi | D19: E.1.03.00.00.000
A20: E | B20: III | C20: Fondi perequativi da Amministrazioni Centrali | D20: E.1.03.01.00.000
A21: E | B21: III | C21: Fondi perequativi dalla Regione o Provincia autonoma | D21: E.1.03.02.00.000
A22: E | B22: I | C22: Trasferimenti correnti | D22: E.2.00.00.00.000 | E22: 0 | F22: 0
A23: E | B23: II | C23: Trasferimenti correnti | D23: E.2.01.00.00.000 | E23: 0 | F23: 0
A24: E | B24: III | C24: Trasferimenti correnti da Amministrazioni pubbliche | D24: E.2.01.01.00.000 | E24: 0 | F24: 0
A25: E | B25: IV | C25: Trasferimenti correnti da Amministrazioni Centrali | D25: E.2.01.01.01.000 | E25: 0 | F25: 0
A26: E | B26: V | C26: Trasferimenti correnti da autorità amministrative indipendenti | D26: E.2.01.01.01.010 | E26: 0 | F26: 0
A27: E | B27: III | C27: Trasferimenti correnti da Famiglie | D27: E.2.01.02.00.000 | E27: 0 | F27: 0
A28: E | B28: III | C28: Trasferimenti correnti da Imprese | D28: E.2.01.03.00.000 | E28: 0 | F28: 0
A29: E | B29: IV | C29: Altri trasferimenti correnti da imprese | D29: E.2.01.03.02.000 | E29: 0 | F29: 0
A30: E | B30: V | C30: Altri trasferimenti correnti da altre imprese | D30: E.2.01.03.02.999 | E30: 0 | F30: 0
A31: E | B31: III | C31: Trasferimenti correnti da Istituzioni Sociali Private | D31: E.2.01.04.00.000 | E31: 0 | F31: 0
A32: E | B32: III | C32: Trasferimenti correnti dall'Unione Europea e dal Resto del Mondo | D32: E.2.01.05.00.000 | E32: 0 | F32: 0
A33: E | B33: IV | C33: Trasferimenti correnti dall'Unione Europea | D33: E.2.01.05.01.000 | E33: 0 | F33: 0
... A45: E | B45: II | C45: Interessi attivi | D45: E.3.03.00.00.000 | E45: 1463.5 | F45: 0
A46: E | B46: III | C46: Interessi attivi da titoli o finanziamenti a breve termine | D46: E.3.03.01.00.000 | E46: #REF! | F46: #REF!
A47: E | B47: III | C47: Interessi attivi da titoli o finanziamenti a medio - lungo termine | D47: E.3.03.02.00.000 | E47: 814.73 | F47: 0
A48: E | B48: III | C48: Altri interessi attivi | D48: E.3.03.03.00.000 | E48: 1463.5 | F48: 0
A49: E | B49: IV | C49: Interessi attivi da conti di tesoreria | D49: E.3.03.03.03.000 | E49: 814.73 | F49: 0
A50: E | B50: V | C50: Interessi attivi da conti di tesoreria | D50: E.3.03.03.03.001 | E50: 814.73 | F50: 0
A51: E | B51: IV | C51: Interessi attivi da depositi bancari o postali | D51: E.3.03.03.04.000 | E51: 648.77 | F51: 0
A52: E | B52: V | C52: Interessi attivi da depositi bancari o postali | D52: E.3.03.03.04.001 | E52: 648.77 | F52: 0
A53: E | B53: IV | C53: Altri interessi attivi diversi | D53: E.3.03.03.99.000 | E53: 0 | F53: 0
A54: E | B54: V | C54: Altri interessi attivi da altri soggetti | D54: E.3.03.03.99.999 | E54: 0 | F54: 0
...

Sheet conto patrimonio
A1: AUTORITA' DI REGOLAZIONE PER ENERGIA RETI E AMBIENTE
A2: CONTO DEL PATRIMONIO AL 31 DICEMBRE 2023 (articolo 30 del Regolamento di contabilità)
B6: ESERCIZIO 2022 | D6: ESERCIZIO 2023
A8: ATTIVO
A10: CONSISTENZA DI CASSA | C10: 1.3614363e+08 | E10: 2.1326567e+08
A12: RESIDUI ATTIVI | C12: 2165939.1 | E12: 390454.99
A14: IMMOBILIZZAZIONI IMMATERIALI | C14: 0 | E14: 0
A16: IMMOBILIZZAZIONI MATERIALI
A17: Fabbricati | C17: 44375669 | E17: 43693520
A18: Attrezzature informatiche | C18: 95248.23 | E18: 27844.43
A19: Mobili e arredi | C19: 49704.01 | E19: 39357.28
A20: Impianti | C20: 156496.39 | E20: 131856.93
A21: Macchine d'ufficio | C21: 99.78 | E21: 0
A22: Materiale bibliografico | C22: 1572302.8 | E22: 1634960.4
A24: IMMOBILIZZAZIONI MATERIALI | C24: 46249520 | E24: 45527540
A27: TOTALE ATTIVO: | C27: 1.8455909e+08 | E27: 2.5918367e+08
A29: Crediti ex L. 191/2009 | C29: 17140000 | E29: 17140000
A32: PASSIVO:
A35: RESIDUI PASSIVI: | C35: 9156507.1 | E35: 64041594
A37: ACCANTONAMENTO TRATTAMENTO DI QUIESCENZA | C37: 23462162 | E37: 27062162
A39: ALTRI FONDI ACCANTONATI | C39: 42124705 | E39: 41737158
A41: PATRIMONIO NETTO:
A42: Consistenza patrimoniale | C42: 46249520 | E42: 45527540
A43: Fondo compensazione entrate | C43: 50000000 | E43: 65000000
A45: Avanzo di amministrazione libero | C45: 13566193 | E45: 15815216
A47: TOTALE PATRIMONIO NETTO: | C47: 1.0981571e+08 | E47: 1.2634276e+08
A49: TOTALE PASSIVO | C49: 1.8455909e+08 | E49: 2.5918367e+08
A51: Trasferimenti ex L. 191/2009 | C51: 17140000 | E51: 17140000

Sheet situazione finanziaria
A1: AUTORITA' DI REGOLAZIONE PER ENERGIA RETI E AMBIENTE
A2: RENDICONTO DELLA GESTIONE PER L'ESERCIZIO 2023
A4: SITUAZIONE FINANZIARIA E AMMINISTRATIVA AL 31 DICEMBRE 2023
A5: (Allegato al Conto del bilancio di cui all'art. 31 lettere a) e b) del Regolamento di contabilità)
A10: Fondo cassa al 01/01/2023 | C10: 1.3614563e+08
A12: Incassi in conto competenza dall'01/01/2023 al 31/12/2023 | C12: 1.6293444e+08
A14: Incassi in conto residui dall'01/01/2023 al 31/12/2023 | C14: 1791053.8
A17: Pagamenti in conto competenza dall'01/01/2023 al 31/12/2023 | C17: -80512068
A19: Pagamenti in conto residui dall'01/01/2023 al 31/12/2023 | C19: -7093378.9
A22: Fondo cassa al 31 dicembre 2023 | C22: 2.1326567e+08
A26: Residui attivi dell'esercizio 2023 | C26: 36597.13
A28: Residui attivi provenienti da esercizi precedenti | B28: 374885.34
A30: Residui attivi inesigibili al 31/12/2023 | B30: -21027.48
A32: Residui attivi da esercizi precedenti | C32: 353857.86
A34: Residui passivi dell'esercizio 2023 | C34: -63188533
A36: Residui passivi provenienti da esercizi precedenti | B36: -2063128.2
A38: Residui passivi insussistenti al 31/12/2023 | B38: 1210067.2
A40: Residui passivi da esercizi precedenti | C40: -853060.99
A42: Avanzo di amministrazione al 31/12/2023 | C42: 1.4961454e+08
A44: - di cui Avanzo della gestione esercizio 2023 | B44: 20459475
A46: Avanzo vincolato - Fondo compensazione entrate | C46: -65000000
A48: Avanzo di amministrazione disponibile 2023 | C48: 84614536
A50: Avanzo vincolato - Fondo trattamento di quiescenza 2022 | B50: 23464162
A52: Avanzo vincolato - Utilizzo accantonamento fondo trattamento di quiescenza | B52: -2495065.3
A54: Avanzo vincolato - Accantonamento fondo trattamento di quiescenza 2023 | B54: 6093065.3
A56: Avanzo vincolato - Fondo trattamento di quiescenza 2023 | C56: 27062162
A58: Avanzo accantonato - Spese ristrutturazione immobile Milano 2022 | B58: 30950398
A60: Avanzo accantonato - Utilizzo avanzo spese ristrutturazione sede Milano | B60: -387547.55
A62: Avanzo accantonato - Accantonamento avanzo spese ristrutturazione sede Milano | C62: 0
A64: Avanzo accantonato - Spese ristrutturazione immobile Milano 2023 | C64: 30562850
A66: Avanzo accantonato - Spese per rischi e liti vari | C66: 11174308
A68: Avanzo di amministrazione libero 2023 | C68: 15815216

Sheet riconciliazione bancaria
A4: AUTORITA' DI REGOLAZIONE PER ENERGIA RETI E AMBIENTE
A5: RENDICONTO DELLA GESTIONE PER L'ESERCIZIO 2023
A7: RICONCILIAZIONE BANCARIA ANNO 2023
A10: Fondo di cassa al 01/01/2023 | D10: 1.3614563e+08
A12: Somme riscosse al 31/12/2023 | D12: 1.6472549e+08
A14: Somme pagate al 31/12/2023 | D14: -87605446
A16: Fondo di cassa al 31/12/2023 | C16: 2.1326567e+08
A18: Reversali di incasso del mese di Dicembre 2023 | C18: -52564.25
A19: ma contabilizzati da Banca d'Italia nel Gennaio 2024
A21: Fondo di cassa al 31/12/2023 | D21: 2.1321311e+08
A23: Interessi attivi IV trim. 2023 non ancora confluiti in Banca Italia | D23: 480.09
A25: Fondo di cassa al 31/12/2022 presso Banca d'Italia e Istituto cassiere | D25: 2.1321359e+08
A27: di cui:
A28: a) saldo Banca Italia al 31/12/2023 | D28: 2.1315511e+08
A29: b) saldo Istituto casssiere al 31/12/2023 | D29: 58480.09

Sheet Stato patrimoniale
A1: AUTORITA' DI REGOLAZIONE ENERGIA RETI E AMBIENTE
A3: STATO PATRIMONIALE - ESERCIZIO 2023
A6: ATTIVITA' | F6: PASSIVITA'
D7: 2022 | E7: 2023 | I7: 2022 | J7: 2022
A8: IMMOBILIZZAZIONI
A10: Immobilizzazioni immateriali
A13: Diritti di brev. Industriale e opere | D13: 156313.1 | E13: 156313.1 | F13: FONDI PER RISCHI ED ONERI
A14: dell'ingegno
F15: Fondo per liti e rischi vari | I15: 11174308 | J15: 11174308
A16: F.do amm.to diritti utilizz.opere ingegno | D16: -156313.1 | E16: -156313.1
A18: Spese incrementative su beni in locaz. | D18: 0 | E18: 0
A20: F.do amm.to spese increment.su beni | D20: 0 | E20: 0 | F20: TOTALE FONDI PER RISCHI ED | I20: 11174308 | J20: 11174308
A21: presi in locazione | F21: ONERI
A23: Totale immobilizzazioni | D23: 0 | E23: 0 | F23: FONDO PER RISTRUTTURAZIONI | I23: 0 | J23: 0
A24: immateriali | F24: IMMOBILIARI
A26: Immobilizzazioni materiali | F26: TRATTAMENTO FINE RAPPORTO
F27: LAVORO SUBORDINATO
A28: Mobili e arredi | D28: 1253351.8 | E28: 1253351.8
F29: Fondi TFR - IFR | I29: 23462162 | J29: 27062162
A30: F.do amm.to mobili e arredi | D30: -1203647.7 | E30: -1213994.5
A32: Fabbricati | D32: 53784936 | E32: 54182027
F33: TOTALE TRATTAMENTO FINE | I33: 23462162 | J33: 27062162
A34: F.do amm.to fabbricati | D34: -9409267.2 | E34: -10488507 | F34: RAPPORTO LAV. SUBORDINATO
A36: Hardware e software | D36: 3664374 | E36: 3669561.6 | F36: DEBITI
A38: F.do amm.to hardware e software | D38: -3569125.8 | E38: -3641717.2 | F38: Debiti verso le banche
F40: Debiti verso le banche | I40: 70.73 | J40: 168.68
A42: Altri impianti e macchinari | D42: 662648.2 | E42: 662648.2 | F42: Debiti verso fornitori
F44: Debiti verso fornitori | I44: 1380862.5 | J44: 2422379.2
A46: F.do amm.to impianti e macchinari | D46: -506151.81 | E46: -530791.27 | F46: Debiti per fatture da ricevere | I46: 2146685.6 | J46: 531162.09
A48: Patrimonio librario | D48: 2751078.4 | E48: 2947368.7
A50: F.do amm.to patrimonio librario | D50: -1178775.6 | E50: -1312408.3 | F50: Debiti verso istituti di previdenza e
F51: sicurezza sociale
A53: Macchine d'ufficio | D53: 374207.48 | E53: 374207.48 | F53: INPDAP c/ contributi | I53: 719603.7 | J53: 806232.97
A55: F.do amm.to macchine d'ufficio | D55: -374107.7 | E55: -374207.48 | F55: INPS c/ contributi | I55: 35933.33 | J55: 41038.8
A57: Totale immobilizzazioni materiali | D57: 46249520 | E57: 45527540 | F57: INAIL c/ contributi | I57: 356.4 | J57: 0
F59: INPGI c/contributi | I59: 0 | J59: 0
A61: TOTALE IMMOBILIZZAZIONI | D61: 46249520 | E61: 45527540 | F61: Debiti verso lo Stato ed altri
F62: soggetti pubblici
A64: ATTIVO CIRCOLANTE | F64: Regione c/ IRAP | I64: 408557.98 | J64: 438334.41
A66: Crediti | F66: Debiti diversi
...

Sheet Conto economico
A2: AUTORITA' DI REGOLAZIONE PER ENERGIA RETI E AMBIENTE
A3: CONTO ECONOMICO - ESERCIZIO 2023
G6: 2022 | J6: 2023
G7: PARZIALI | H7: TOTALI | I7: COMPLESSIVI | J7: PARZIALI | K7: TOTALI | L7: COMPLESSIVI
A9: A-VALORE DELLA PRODUZIONE
A11: Altri ricavi e proventi con separata indicaz. contr. c/comp. | H11: 76157138 | K11: 1.4441189e+08
A13: Contributi a carico dei soggetti esercenti servizi | G13: 76087954 | J13: 89285950
A14: energia elettrica e gas (capitolo 101)
A16: Recuperi e rimborsi di oneri per il personale (capitolo 104) | G16: 40580.1 | J16: 47475.59
A18: Recuperi/rimborsi spese per acquisto beni e servizi (capitolo 104) | G18: 19862.2 | J18: 67709.38
A20: Altri ricavi e proventi (capitolo 104) | G20: 0 | J20: 54767285
A22: Sconti e abbuoni attivi * | G22: 12.01 | J22: 0.11
A24: Rimborso contributo FPA da personale in servizio (cap. 104) | G24: 2000 | J24: 237997.56
A26: Interessi su rimborsi contributi FPA pers. in servizio (cap. 102) | G26: 6729.42 | J26: 5474.4
A28: Rimborsi da altre Autorità Indipendenti (cap. 103)
A30: TOTALE VALORE DELLA PRODUZIONE (A) | H30: 76157138 | K30: 1.4441189e+08
A32: Utilizzo fondo acq. patrimoniali | G32: 0 | J32: 0
A34: B-COSTI DELLA PRODUZIONE
A36: Costi per materie prime, sussidiarie, consumo e merci | H36: 7919.09 | K36: 114775.8
A38: Acquisto carta (capitolo 137) | G38: 0 | J38: 0
A40: Acquisto materiale igienico-sanitario (capitolo 137) | G40: 0 | J40: 0
A42: Acquisto materiale per riproduzioni e fotoriproduzioni (capitolo 137) | G42: 0 | J42: 0
A44: Acquisto carburanti e lubrificanti (capitolo 137) | G44: 0 | J44: 0
A46: Acquisto materiale informatico (capitolo 137) | G46: 1971.05 | J46: 104773.45
A48: Stampati e cancelleria (capitolo 137) | G48: 0 | J48: 0
A50: Materiale di consumo vario (capitolo 137) | G50: 5948.04 | J50: 10002.35
A52: Costi per servizi | H52: 9523947.4 | K52: 8921948.4
A54: Compensi e rimborsi spese collegio dei revisori (capitolo 130) | G54: 133007.44 | J54: 98753.07
A56: Contributi Inps collegio revisori (capitolo 130) | G56: 4706.64 | J56: 4848.3
A58: Contributi Irap collegio revisori (capitolo 130) | G58: 1756.7 | J58: 1009.8
A60: Compensi e rimborsi spese nucleo valutazione (capitolo 130) | G60: 127444.55 | J60: 127960.08
A62: Contributi Inps nucleo valutazione (capitolo 130) | G62: 5293.64 | J62: 5130.32
A64: Contributi Irap nucleo valutazione (capitolo 130) | G64: 2131.33 | J64: 2897.28
A66: Compensi e rimborsi spese esperti esterni (capitolo 131) | G66: 0 | J66: 0
A68: Contributi Inps esperti esterni (capitolo 131) | G68: 0 | J68: 0
A70: Contributi Irap esperti esterni (capitolo 131) | G70: 0 | J70: 0
A72: Compensi e rimborsi spese co.co.co (capitolo 151) | G72: 0 | J72: 0
A74: Contributi Inps su co.co.co (capitolo 151) | G74: 0 | J74: 0
A76: Contributi Irap su co.co.co (capitolo 151) | G76: 0 | J76: 0
... A92: Convenzioni e protocolli (capitolo 154) | G92: 0 | J92: 0
...

